BEGIN:VCALENDAR
VERSION:2.0
PRODID:-//Dreamhouse Theatre Company - ECPv6.14.2//NONSGML v1.0//EN
CALSCALE:GREGORIAN
METHOD:PUBLISH
X-WR-CALNAME:Dreamhouse Theatre Company
X-ORIGINAL-URL:https://dreamhousetc.com.au
X-WR-CALDESC:Events for Dreamhouse Theatre Company
REFRESH-INTERVAL;VALUE=DURATION:PT1H
X-Robots-Tag:noindex
X-PUBLISHED-TTL:PT1H
BEGIN:VTIMEZONE
TZID:Australia/Melbourne
BEGIN:STANDARD
TZOFFSETFROM:+1100
TZOFFSETTO:+1000
TZNAME:AEST
DTSTART:20220402T160000
END:STANDARD
BEGIN:DAYLIGHT
TZOFFSETFROM:+1000
TZOFFSETTO:+1100
TZNAME:AEDT
DTSTART:20221001T160000
END:DAYLIGHT
END:VTIMEZONE
BEGIN:VEVENT
DTSTART;VALUE=DATE:20220309
DTEND;VALUE=DATE:20220407
DTSTAMP:20260423T210325
CREATED:20210128T012003Z
LAST-MODIFIED:20220308T042838Z
UID:563-1646784000-1649289599@dreamhousetc.com.au
SUMMARY:Dreamhouse Ensemble Worshops - Wednesdays
DESCRIPTION:Each Wednesday from 4-6pm Rosebud SC theatre (Southern Peninsula Arts Centre) last session for the term is 6th April.\n\n 
URL:https://dreamhousetc.com.au/event/1st-session-dreamhouse-ensemble/
LOCATION:SPAC\, 245 Eastbourne Rd\, Rosebud\, VIC\, 3939\, Australia
CATEGORIES:Workshop
ATTACH;FMTTYPE=image/jpeg:https://dreamhousetc.com.au/MP/wp-content/uploads/2021/01/ensemble2.jpg
END:VEVENT
END:VCALENDAR